BEGIN:VCALENDAR
VERSION:2.0
PRODID:-//Plone.org//NONSGML plone.app.event//EN
X-WR-TIMEZONE:Brazil/East
BEGIN:VEVENT
SUMMARY:Audiência Pública - Metas Fiscais 1º Quadrimestre 2023.
DTSTART;TZID=Brazil/East;VALUE=DATE-TIME:20230525T083000
DTEND;TZID=Brazil/East;VALUE=DATE-TIME:20230525T103000
DTSTAMP;VALUE=DATE-TIME:20260424T180410Z
UID:d0d94f9e4f9a4289b866cc8aa8f7eebb@www.ibiuna.sp.leg.br
ATTENDEE;CN="Comissão de Finanças e Orçamento; Prefeitura Municipal e p
 opulação em geral";ROLE=REQ-PARTICIPANT:Comissão de Finanças e Orçame
 nto; Prefeitura Municipal e população em geral
CONTACT:Pedro Jorge\, (15) 3241-1266\, imprensa@ibiuna.sp.leg.br\, https:/
 /www.youtube.com/@TVCamaraIbiuna/streams
CREATED;VALUE=DATE-TIME:20230517T144844Z
DESCRIPTION:Demonstração e avaliação pelo Poder Executivo do cumprimen
 to das metas fiscais do quadrimestre janeiro\, fevereiro\, março e abril 
 de 2023\, conforme disposto no Artigo 9o.\, parágrafo 4o. da Lei Compleme
 ntar no. 101\, de 04 de maio de 2000 – Lei de Responsabilidade Fiscal.
LAST-MODIFIED;VALUE=DATE-TIME:20230517T145023Z
LOCATION:Plenário da Câmara Municipal
URL:https://www.ibiuna.sp.leg.br/institucional/eventos/audiencia-publica-m
 etas-fiscais-1o-quadrimestre-2023
END:VEVENT
BEGIN:VTIMEZONE
TZID:Brazil/East
X-LIC-LOCATION:Brazil/East
BEGIN:STANDARD
DTSTART;VALUE=DATE-TIME:20230225T230000
TZNAME:BRT
TZOFFSETFROM:-0200
TZOFFSETTO:-0300
END:STANDARD
END:VTIMEZONE
END:VCALENDAR
